BEGIN:VCALENDAR
VERSION:2.0
PRODID:spatie/icalendar-generator
DESCRIPTION:Events from Democratic Party of Sandoval County
X-WR-CALDESC:Events from Democratic Party of Sandoval County
REFRESH-INTERVAL;VALUE=DURATION:PT1440M
X-PUBLISHED-TTL:PT1440M
BEGIN:VTIMEZONE
TZID:America/Denver
BEGIN:DAYLIGHT
DTSTART:20250309T020000Z
TZOFFSETFROM:-0700
TZOFFSETTO:-0600
END:DAYLIGHT
BEGIN:STANDARD
DTSTART:20251102T020000Z
TZOFFSETFROM:-0600
TZOFFSETTO:-0700
END:STANDARD
BEGIN:DAYLIGHT
DTSTART:20260308T020000Z
TZOFFSETFROM:-0700
TZOFFSETTO:-0600
END:DAYLIGHT
END:VTIMEZONE
BEGIN:VTIMEZONE
TZID:UTC
BEGIN:STANDARD
DTSTART:20250725T111332Z
TZOFFSETFROM:+0000
TZOFFSETTO:+0000
END:STANDARD
END:VTIMEZONE
BEGIN:VEVENT
UID:1284-54
DTSTAMP:20260421T111332Z
SUMMARY:Fall Fundraiser for Rep Kathleen Cates--Special Balloon Fiesta View
 ing
LOCATION:Corrales\, NM
ORGANIZER;CN=Webmaster:MAILTO:moodwick@swcp.com
DTSTART;TZID=America/Denver:20251011T080000
DTEND;TZID=America/Denver:20251011T100000
X-ALT-DESC;FMTTYPE=TEXT/HTML:Fall Fundraiser for Representative Kathleen Ca
 tes Join us for a spectacular viewing of the day's morning liftoff during 
 the Balloon Fiesta. Coffee and breakfast snacks will be provided. Address 
 available upon RSVP For questions or RSVP\, contact Chris Daul by phone at
  (908) 635-0929 or by email at daulcl8@gmail.com. Contributions can be mad
 e by check&amp;hellip\;
CATEGORIES:General
URL;VALUE=URI:https://www.sandovaldemocrats.org/mc-events/fall-fundraiser-f
 or-rep-kathleen-cates-special-balloon-fiesta-viewing/
METHOD:PUBLISH
END:VEVENT
END:VCALENDAR