BEGIN:VCALENDAR
VERSION:2.0
PRODID:spatie/icalendar-generator
DESCRIPTION:Events from Democratic Party of Sandoval County
X-WR-CALDESC:Events from Democratic Party of Sandoval County
REFRESH-INTERVAL;VALUE=DURATION:PT1440M
X-PUBLISHED-TTL:PT1440M
BEGIN:VTIMEZONE
TZID:America/Denver
BEGIN:STANDARD
DTSTART:20251102T020000Z
TZOFFSETFROM:-0600
TZOFFSETTO:-0700
END:STANDARD
BEGIN:DAYLIGHT
DTSTART:20260308T020000Z
TZOFFSETFROM:-0700
TZOFFSETTO:-0600
END:DAYLIGHT
END:VTIMEZONE
BEGIN:VTIMEZONE
TZID:UTC
BEGIN:STANDARD
DTSTART:20250725T105936Z
TZOFFSETFROM:+0000
TZOFFSETTO:+0000
END:STANDARD
END:VTIMEZONE
BEGIN:VEVENT
UID:2386-110
DTSTAMP:20260421T105936Z
SUMMARY:Second Saturday
LOCATION:M’tucci’s Moderno 1908 Wellspring Ave SE  Rio Rancho NM 87124
ORGANIZER;CN=Sandoval County Democratic Party:MAILTO:scottlake@yahoo.com
RRULE:FREQ=MONTHLY;BYDAY=2SA;UNTIL=20380930T000000Z
DTSTART;TZID=America/Denver:20260314T110000
DTEND;TZID=America/Denver:20260314T130000
X-ALT-DESC;FMTTYPE=TEXT/HTML:
CATEGORIES:General
URL;VALUE=URI:https://www.sandovaldemocrats.org/mc-events/second-saturday-2
 /?mc_id=2386
METHOD:PUBLISH
END:VEVENT
END:VCALENDAR